BEGIN:VCALENDAR
VERSION:2.0
PRODID:-//pretix//pretix.eu//
BEGIN:VTIMEZONE
TZID:Europe/Lisbon
BEGIN:STANDARD
DTSTART:20001029T030000
RRULE:FREQ=YEARLY;BYDAY=-1SU;BYMONTH=10
TZNAME:WET
TZOFFSETFROM:+0100
TZOFFSETTO:+0000
END:STANDARD
BEGIN:DAYLIGHT
DTSTART:20000326T020000
RRULE:FREQ=YEARLY;BYDAY=-1SU;BYMONTH=3
TZNAME:WEST
TZOFFSETFROM:+0000
TZOFFSETTO:+0100
END:DAYLIGHT
END:VTIMEZONE
BEGIN:VEVENT
UID:pretix-FeelIt-Insegura-4910154@pretix.eu
DTSTART;TZID=Europe/Lisbon:20260410T213000
DTEND;TZID=Europe/Lisbon:20260410T224500
DESCRIPTION:Bilhetes: https://pretix.eu/FeelIt/Insegura/4910154/\nOrganizad
 or: Feel It Dance Company
DTSTAMP:20260419T165955Z
LOCATION:Sociedade Filarmónica Boa União Montelavarense\, Largo Maestro M
 odesto Fernandes Alves Velho 4\, 2715-685 Montelavar
SUMMARY:Insegura - Uma Tragédia de Enganos (1ª apresentação)
END:VEVENT
END:VCALENDAR
