BEGIN:VCALENDAR
VERSION:2.0
PRODID:-//pretix//pretix.eu//
BEGIN:VTIMEZONE
TZID:Europe/Lisbon
BEGIN:STANDARD
DTSTART:20001029T030000
RRULE:FREQ=YEARLY;BYDAY=-1SU;BYMONTH=10
TZNAME:WET
TZOFFSETFROM:+0100
TZOFFSETTO:+0000
END:STANDARD
BEGIN:DAYLIGHT
DTSTART:20000326T020000
RRULE:FREQ=YEARLY;BYDAY=-1SU;BYMONTH=3
TZNAME:WEST
TZOFFSETFROM:+0000
TZOFFSETTO:+0100
END:DAYLIGHT
END:VTIMEZONE
BEGIN:VEVENT
UID:pretix-FeelIt-dlniw-0@pretix.eu
DTSTART;TZID=Europe/Lisbon:20260117T160000
DTEND;TZID=Europe/Lisbon:20260117T183000
DESCRIPTION:Bilhetes: https://pretix.eu/FeelIt/dlniw/\nOrganizador: Feel It
  Dance Company
DTSTAMP:20260419T182409Z
LOCATION:NOVO LOCAL: Salão Preto e Prata\, Casino do Estoril\, Av. Dr. Sta
 nley Ho\, 2765-190 Estoril\, Portugal:
SUMMARY:Dance Like Nobody Is Watching (Bilhetes transitam para o Casino)
END:VEVENT
END:VCALENDAR
