BEGIN:VCALENDAR
VERSION:2.0
PRODID:-//pretix//pretix.eu//
BEGIN:VTIMEZONE
TZID:Europe/Lisbon
BEGIN:STANDARD
DTSTART:20001029T030000
RRULE:FREQ=YEARLY;BYDAY=-1SU;BYMONTH=10
TZNAME:WET
TZOFFSETFROM:+0100
TZOFFSETTO:+0000
END:STANDARD
BEGIN:DAYLIGHT
DTSTART:20000326T020000
RRULE:FREQ=YEARLY;BYDAY=-1SU;BYMONTH=3
TZNAME:WEST
TZOFFSETFROM:+0000
TZOFFSETTO:+0100
END:DAYLIGHT
END:VTIMEZONE
BEGIN:VEVENT
UID:pretix-FeelIt-garagem-4124387@pretix.eu
DTSTART;TZID=Europe/Lisbon:20240503T213000
DTEND;TZID=Europe/Lisbon:20240503T223000
DESCRIPTION:Bilhetes: https://pretix.eu/FeelIt/garagem/4124387/\nOrganizado
 r: Feel It Dance Company
DTSTAMP:20260424T135737Z
LOCATION:Forno – Espaço Cultural\, Avenida Pedro Nunes 9\, 2635-317 Rio 
 de Mouro (Junto à Escola Padre Alberto Neto e da Escola Secundária Leal 
 da Câmara)
SUMMARY:Garagem\, O Nosso Sonho
END:VEVENT
END:VCALENDAR
