BEGIN:VCALENDAR
VERSION:2.0
PRODID:-//pretix//pretix.eu//
BEGIN:VTIMEZONE
TZID:Europe/Lisbon
BEGIN:STANDARD
DTSTART:20001029T030000
RRULE:FREQ=YEARLY;BYDAY=-1SU;BYMONTH=10
TZNAME:WET
TZOFFSETFROM:+0100
TZOFFSETTO:+0000
END:STANDARD
BEGIN:DAYLIGHT
DTSTART:20000326T020000
RRULE:FREQ=YEARLY;BYDAY=-1SU;BYMONTH=3
TZNAME:WEST
TZOFFSETFROM:+0000
TZOFFSETTO:+0100
END:DAYLIGHT
END:VTIMEZONE
BEGIN:VEVENT
UID:pretix-FeelIt-streets-to-stage-0@pretix.eu
DTSTART;TZID=Europe/Lisbon:20250705T160000
DTEND;TZID=Europe/Lisbon:20250705T183000
DESCRIPTION:Bilhetes: https://pretix.eu/FeelIt/streets-to-stage/\nOrganizad
 or: Feel It Dance Company
DTSTAMP:20260419T182403Z
LOCATION:Auditório Senhora da Boa Nova\, Rua do Campo Santo 441\, Estoril\
 , portugal
SUMMARY:From The Streets To The Stage
END:VEVENT
END:VCALENDAR
