BEGIN:VCALENDAR
VERSION:2.0
PRODID:-//pretix//pretix.eu//
BEGIN:VTIMEZONE
TZID:Europe/Lisbon
BEGIN:STANDARD
DTSTART:20001029T030000
RRULE:FREQ=YEARLY;BYDAY=-1SU;BYMONTH=10
TZNAME:WET
TZOFFSETFROM:+0100
TZOFFSETTO:+0000
END:STANDARD
BEGIN:DAYLIGHT
DTSTART:20000326T020000
RRULE:FREQ=YEARLY;BYDAY=-1SU;BYMONTH=3
TZNAME:WEST
TZOFFSETFROM:+0000
TZOFFSETTO:+0100
END:DAYLIGHT
END:VTIMEZONE
BEGIN:VEVENT
UID:pretix-FeelIt-vida-4553118@pretix.eu
DTSTART;TZID=Europe/Lisbon:20250503T213000
DTEND;TZID=Europe/Lisbon:20250503T223000
DESCRIPTION:Bilhetes: https://pretix.eu/FeelIt/vida/4553118/\nOrganizador: 
 Feel It Dance Company
DTSTAMP:20260421T114849Z
LOCATION:Casa da Cultura Lívio de Morais (Mira-Sintra)\, Av. 25 de Abril\,
  Largo da Igreja - Mira Sintra\, 2735-400 Agualva-Cacém
SUMMARY:VIDA: UMA APLICAÇÃO
END:VEVENT
END:VCALENDAR
