BEGIN:VCALENDAR
VERSION:2.0
PRODID:-//pretix//pretix.eu//
BEGIN:VTIMEZONE
TZID:Europe/Berlin
BEGIN:STANDARD
DTSTART:20001029T040000
RRULE:FREQ=YEARLY;BYDAY=-1SU;BYMONTH=10
TZNAME:CET
TZOFFSETFROM:+0200
TZOFFSETTO:+0100
END:STANDARD
BEGIN:DAYLIGHT
DTSTART:20000326T030000
RRULE:FREQ=YEARLY;BYDAY=-1SU;BYMONTH=3
TZNAME:CEST
TZOFFSETFROM:+0100
TZOFFSETTO:+0200
END:DAYLIGHT
END:VTIMEZONE
BEGIN:VEVENT
UID:pretix-FigurentheaterRV-Festival24-4211097@pretix.eu
DTSTART;TZID=Europe/Berlin:20241006T103000
DTEND;TZID=Europe/Berlin:20241006T113000
DESCRIPTION:Tickets: https://pretix.eu/FigurentheaterRV/Festival24/4211097/
 \nVeranstalter: Figurentheater Ravensburg e.V.
DTSTAMP:20260420T111922Z
LOCATION:Ravensburg\, St. Christina
SUMMARY:Hilfe! Krokodil im Land (Mariannes Puppenbühne)
END:VEVENT
END:VCALENDAR
