BEGIN:VCALENDAR
VERSION:2.0
PRODID:-//pretix//pretix.eu//
BEGIN:VTIMEZONE
TZID:Europe/Berlin
BEGIN:STANDARD
DTSTART:20001029T040000
RRULE:FREQ=YEARLY;BYDAY=-1SU;BYMONTH=10
TZNAME:CET
TZOFFSETFROM:+0200
TZOFFSETTO:+0100
END:STANDARD
BEGIN:DAYLIGHT
DTSTART:20000326T030000
RRULE:FREQ=YEARLY;BYDAY=-1SU;BYMONTH=3
TZNAME:CEST
TZOFFSETFROM:+0100
TZOFFSETTO:+0200
END:DAYLIGHT
END:VTIMEZONE
BEGIN:VEVENT
UID:pretix-FigurentheaterRV-Hotzenplotz-18-0@pretix.eu
DTSTART;TZID=Europe/Berlin:20260418T150000
DTEND;TZID=Europe/Berlin:20260418T160000
DESCRIPTION:Tickets: https://pretix.eu/FigurentheaterRV/Hotzenplotz-18/\nVe
 ranstalter: Figurentheater Ravensburg e.V.
DTSTAMP:20260423T204628Z
SUMMARY:Der Räuber Hotzenplotz
END:VEVENT
BEGIN:VEVENT
UID:pretix-FigurentheaterRV-Gastspiel-26-3-0@pretix.eu
DTSTART;TZID=Europe/Berlin:20260418T193000
DTEND;TZID=Europe/Berlin:20260418T203000
DESCRIPTION:Tickets: https://pretix.eu/FigurentheaterRV/Gastspiel-26-3/\nVe
 ranstalter: Figurentheater Ravensburg e.V.
DTSTAMP:20260423T204628Z
SUMMARY:Sebastian Dracu - Blues-Rock-Nacht
END:VEVENT
BEGIN:VEVENT
UID:pretix-FigurentheaterRV-Aladin-7-0@pretix.eu
DTSTART;TZID=Europe/Berlin:20260419T150000
DTEND;TZID=Europe/Berlin:20260419T160000
DESCRIPTION:Tickets: https://pretix.eu/FigurentheaterRV/Aladin-7/\nVeransta
 lter: Figurentheater Ravensburg e.V.
DTSTAMP:20260423T204628Z
SUMMARY:Aladin und die Wunderlampe
END:VEVENT
BEGIN:VEVENT
UID:pretix-FigurentheaterRV-Sams-14-0@pretix.eu
DTSTART;TZID=Europe/Berlin:20260425T150000
DTEND;TZID=Europe/Berlin:20260425T160000
DESCRIPTION:Tickets: https://pretix.eu/FigurentheaterRV/Sams-14/\nVeranstal
 ter: Figurentheater Ravensburg e.V.
DTSTAMP:20260423T204628Z
SUMMARY:Eine Woche voller Samstage
END:VEVENT
BEGIN:VEVENT
UID:pretix-FigurentheaterRV-Gast-26-2-0@pretix.eu
DTSTART;TZID=Europe/Berlin:20260426T150000
DTEND;TZID=Europe/Berlin:20260426T160000
DESCRIPTION:Tickets: https://pretix.eu/FigurentheaterRV/Gast-26-2/\nVeranst
 alter: Figurentheater Ravensburg e.V.
DTSTAMP:20260423T204628Z
SUMMARY:Mach (k)ein Theater
END:VEVENT
BEGIN:VEVENT
UID:pretix-FigurentheaterRV-Feuerinsel-7-0@pretix.eu
DTSTART;TZID=Europe/Berlin:20260509T150000
DTEND;TZID=Europe/Berlin:20260509T160000
DESCRIPTION:Tickets: https://pretix.eu/FigurentheaterRV/Feuerinsel-7/\nVera
 nstalter: Figurentheater Ravensburg e.V.
DTSTAMP:20260423T204628Z
SUMMARY:Abenteuer auf der Feuerinsel
END:VEVENT
BEGIN:VEVENT
UID:pretix-FigurentheaterRV-Feuerinsel-8-0@pretix.eu
DTSTART;TZID=Europe/Berlin:20260510T150000
DTEND;TZID=Europe/Berlin:20260510T160000
DESCRIPTION:Tickets: https://pretix.eu/FigurentheaterRV/Feuerinsel-8/\nVera
 nstalter: Figurentheater Ravensburg e.V.
DTSTAMP:20260423T204628Z
SUMMARY:Abenteuer auf der Feuerinsel
END:VEVENT
BEGIN:VEVENT
UID:pretix-FigurentheaterRV-Gast-26-3-0@pretix.eu
DTSTART;TZID=Europe/Berlin:20260517T150000
DTEND;TZID=Europe/Berlin:20260517T160000
DESCRIPTION:Tickets: https://pretix.eu/FigurentheaterRV/Gast-26-3/\nVeranst
 alter: Figurentheater Ravensburg e.V.
DTSTAMP:20260423T204628Z
SUMMARY:Der Bär\, der nicht da war
END:VEVENT
BEGIN:VEVENT
UID:pretix-FigurentheaterRV-Hotzenplotz-19-0@pretix.eu
DTSTART;TZID=Europe/Berlin:20260613T150000
DTEND;TZID=Europe/Berlin:20260613T160000
DESCRIPTION:Tickets: https://pretix.eu/FigurentheaterRV/Hotzenplotz-19/\nVe
 ranstalter: Figurentheater Ravensburg e.V.
DTSTAMP:20260423T204628Z
SUMMARY:Der Räuber Hotzenplotz
END:VEVENT
BEGIN:VEVENT
UID:pretix-FigurentheaterRV-Aladin-8-0@pretix.eu
DTSTART;TZID=Europe/Berlin:20260614T150000
DTEND;TZID=Europe/Berlin:20260614T160000
DESCRIPTION:Tickets: https://pretix.eu/FigurentheaterRV/Aladin-8/\nVeransta
 lter: Figurentheater Ravensburg e.V.
DTSTAMP:20260423T204628Z
SUMMARY:Aladin und die Wunderlampe
END:VEVENT
BEGIN:VEVENT
UID:pretix-FigurentheaterRV-Wassermann-34-0@pretix.eu
DTSTART;TZID=Europe/Berlin:20260620T150000
DTEND;TZID=Europe/Berlin:20260620T160000
DESCRIPTION:Tickets: https://pretix.eu/FigurentheaterRV/Wassermann-34/\nVer
 anstalter: Figurentheater Ravensburg e.V.
DTSTAMP:20260423T204628Z
SUMMARY:Der kleine Wassermann
END:VEVENT
BEGIN:VEVENT
UID:pretix-FigurentheaterRV-Sams-15-0@pretix.eu
DTSTART;TZID=Europe/Berlin:20260621T150000
DTEND;TZID=Europe/Berlin:20260621T160000
DESCRIPTION:Tickets: https://pretix.eu/FigurentheaterRV/Sams-15/\nVeranstal
 ter: Figurentheater Ravensburg e.V.
DTSTAMP:20260423T204628Z
SUMMARY:Eine Woche voller Samstage
END:VEVENT
BEGIN:VEVENT
UID:pretix-FigurentheaterRV-Crictor-12-0@pretix.eu
DTSTART;TZID=Europe/Berlin:20260628T150000
DTEND;TZID=Europe/Berlin:20260628T160000
DESCRIPTION:Tickets: https://pretix.eu/FigurentheaterRV/Crictor-12/\nVerans
 talter: Figurentheater Ravensburg e.V.
DTSTAMP:20260423T204628Z
SUMMARY:Crictor\, die gute Schlange
END:VEVENT
BEGIN:VEVENT
UID:pretix-FigurentheaterRV-Feuerinsel-9-0@pretix.eu
DTSTART;TZID=Europe/Berlin:20260704T150000
DTEND;TZID=Europe/Berlin:20260704T160000
DESCRIPTION:Tickets: https://pretix.eu/FigurentheaterRV/Feuerinsel-9/\nVera
 nstalter: Figurentheater Ravensburg e.V.
DTSTAMP:20260423T204628Z
SUMMARY:Abenteuer auf der Feuerinsel
END:VEVENT
BEGIN:VEVENT
UID:pretix-FigurentheaterRV-Sams-16-0@pretix.eu
DTSTART;TZID=Europe/Berlin:20260705T150000
DTEND;TZID=Europe/Berlin:20260705T160000
DESCRIPTION:Tickets: https://pretix.eu/FigurentheaterRV/Sams-16/\nVeranstal
 ter: Figurentheater Ravensburg e.V.
DTSTAMP:20260423T204628Z
SUMMARY:Eine Woche voller Samstage
END:VEVENT
BEGIN:VEVENT
UID:pretix-FigurentheaterRV-Aladin-9-0@pretix.eu
DTSTART;TZID=Europe/Berlin:20260718T150000
DTEND;TZID=Europe/Berlin:20260718T160000
DESCRIPTION:Tickets: https://pretix.eu/FigurentheaterRV/Aladin-9/\nVeransta
 lter: Figurentheater Ravensburg e.V.
DTSTAMP:20260423T204628Z
SUMMARY:Aladin und die Wunderlampe
END:VEVENT
BEGIN:VEVENT
UID:pretix-FigurentheaterRV-Gutschein-0@pretix.eu
DTSTART;VALUE=DATE:20301231
DTEND;VALUE=DATE:20310101
DESCRIPTION:Tickets: https://pretix.eu/FigurentheaterRV/Gutschein/\nVeranst
 alter: Figurentheater Ravensburg e.V.
DTSTAMP:20260423T204628Z
SUMMARY:Gutscheinverkauf
END:VEVENT
END:VCALENDAR
