BEGIN:VCALENDAR
VERSION:2.0
PRODID:-//pretix//pretix.eu//
BEGIN:VTIMEZONE
TZID:Europe/Berlin
BEGIN:STANDARD
DTSTART:20001029T040000
RRULE:FREQ=YEARLY;BYDAY=-1SU;BYMONTH=10
TZNAME:CET
TZOFFSETFROM:+0200
TZOFFSETTO:+0100
END:STANDARD
BEGIN:DAYLIGHT
DTSTART:20000326T030000
RRULE:FREQ=YEARLY;BYDAY=-1SU;BYMONTH=3
TZNAME:CEST
TZOFFSETFROM:+0100
TZOFFSETTO:+0200
END:DAYLIGHT
END:VTIMEZONE
BEGIN:VEVENT
UID:pretix-FreYklang-Grossstadt-0@pretix.eu
DTSTART;TZID=Europe/Berlin:20210725T160000
DTEND;TZID=Europe/Berlin:20210725T170000
DESCRIPTION:Tickets: https://pretix.eu/FreYklang/Grossstadt/\nVeranstalter:
  Förderverein Volksmusikakademie in Bayern e. V.
DTSTAMP:20260426T030437Z
LOCATION:In der Grünanlage bei der Eishalle Freyung
SUMMARY:Großstadt Boazn & Äff-tam-tam-Musikanten - Volksmusik und TradiMix
END:VEVENT
END:VCALENDAR
