BEGIN:VCALENDAR
VERSION:2.0
PRODID:-//pretix//pretix.eu//
BEGIN:VTIMEZONE
TZID:Europe/Berlin
BEGIN:STANDARD
DTSTART:20001029T040000
RRULE:FREQ=YEARLY;BYDAY=-1SU;BYMONTH=10
TZNAME:CET
TZOFFSETFROM:+0200
TZOFFSETTO:+0100
END:STANDARD
BEGIN:DAYLIGHT
DTSTART:20000326T030000
RRULE:FREQ=YEARLY;BYDAY=-1SU;BYMONTH=3
TZNAME:CEST
TZOFFSETFROM:+0100
TZOFFSETTO:+0200
END:DAYLIGHT
END:VTIMEZONE
BEGIN:VEVENT
UID:pretix-GCN-4dec25-0@pretix.eu
DTSTART;TZID=Europe/Berlin:20251204T180000
DTEND;TZID=Europe/Berlin:20251204T200000
DESCRIPTION:Tickets: https://pretix.eu/GCN/4dec25/\nOrganizer: Geneva Commu
 nicators Network
DTSTAMP:20260423T160622Z
LOCATION:Restaurant La Vie des Champs\, Ch. de la Vie des Champs 15\, 1202 
 Geneva
SUMMARY:Geneva Communicators Apero - 4 December 2025
END:VEVENT
END:VCALENDAR
