BEGIN:VCALENDAR
VERSION:2.0
PRODID:-//pretix//pretix.eu//
BEGIN:VTIMEZONE
TZID:Europe/Berlin
BEGIN:STANDARD
DTSTART:20001029T040000
RRULE:FREQ=YEARLY;BYDAY=-1SU;BYMONTH=10
TZNAME:CET
TZOFFSETFROM:+0200
TZOFFSETTO:+0100
END:STANDARD
BEGIN:DAYLIGHT
DTSTART:20000326T030000
RRULE:FREQ=YEARLY;BYDAY=-1SU;BYMONTH=3
TZNAME:CEST
TZOFFSETFROM:+0100
TZOFFSETTO:+0200
END:DAYLIGHT
END:VTIMEZONE
BEGIN:VEVENT
UID:pretix-GCN-8dec23-0@pretix.eu
DTSTART;TZID=Europe/Berlin:20231208T123000
DTEND;TZID=Europe/Berlin:20231208T140000
DESCRIPTION:Tickets: https://pretix.eu/GCN/8dec23/\nOrganizer: Geneva Commu
 nicators Network
DTSTAMP:20260422T150135Z
LOCATION:Geneva Press Club\, Chem. de l'Impératrice 18\, 1292 Pregny-Chamb
 ésy\, Geneva
SUMMARY:Lunchtime seminar -  8  December 2023
END:VEVENT
END:VCALENDAR
