BEGIN:VCALENDAR
VERSION:2.0
PRODID:-//pretix//pretix.eu//
BEGIN:VTIMEZONE
TZID:Europe/Berlin
BEGIN:STANDARD
DTSTART:20001029T040000
RRULE:FREQ=YEARLY;BYDAY=-1SU;BYMONTH=10
TZNAME:CET
TZOFFSETFROM:+0200
TZOFFSETTO:+0100
END:STANDARD
BEGIN:DAYLIGHT
DTSTART:20000326T030000
RRULE:FREQ=YEARLY;BYDAY=-1SU;BYMONTH=3
TZNAME:CEST
TZOFFSETFROM:+0100
TZOFFSETTO:+0200
END:DAYLIGHT
END:VTIMEZONE
BEGIN:VEVENT
UID:pretix-GCN-april26-0@pretix.eu
DTSTART;TZID=Europe/Berlin:20260416T123000
DTEND;TZID=Europe/Berlin:20260416T140000
DESCRIPTION:Tickets: https://pretix.eu/GCN/april26/\nOrganizer: Geneva Comm
 unicators Network
DTSTAMP:20260422T073826Z
LOCATION:Swiss Press Club\, Domaine de Penthes\, Chem. de l’Impératrice 
 18\, 1292 Pregny-Chambésy\, Geneva
SUMMARY:Lunchtime seminar - 16 April 2026
END:VEVENT
END:VCALENDAR
