BEGIN:VCALENDAR
VERSION:2.0
PRODID:-//pretix//pretix.eu//
BEGIN:VTIMEZONE
TZID:Europe/Berlin
BEGIN:STANDARD
DTSTART:20001029T040000
RRULE:FREQ=YEARLY;BYDAY=-1SU;BYMONTH=10
TZNAME:CET
TZOFFSETFROM:+0200
TZOFFSETTO:+0100
END:STANDARD
BEGIN:DAYLIGHT
DTSTART:20000326T030000
RRULE:FREQ=YEARLY;BYDAY=-1SU;BYMONTH=3
TZNAME:CEST
TZOFFSETFROM:+0100
TZOFFSETTO:+0200
END:DAYLIGHT
END:VTIMEZONE
BEGIN:VEVENT
UID:pretix-GCN-june25-0@pretix.eu
DTSTART;TZID=Europe/Berlin:20250617T123000
DTEND;TZID=Europe/Berlin:20250617T140000
DESCRIPTION:Tickets: https://pretix.eu/GCN/june25/\nOrganizer: Geneva Commu
 nicators Network
DTSTAMP:20260422T131030Z
LOCATION:Swiss Press Club\, Domaine de Penthes\, Chem. de l’Impératrice 
 18\, 1292 Pregny-Chambésy\, Geneva
SUMMARY:Lunchtime seminar - 17 June 2025
END:VEVENT
END:VCALENDAR
