BEGIN:VCALENDAR
VERSION:2.0
PRODID:-//pretix//pretix.eu//
BEGIN:VTIMEZONE
TZID:Europe/Berlin
BEGIN:STANDARD
DTSTART:20001029T040000
RRULE:FREQ=YEARLY;BYDAY=-1SU;BYMONTH=10
TZNAME:CET
TZOFFSETFROM:+0200
TZOFFSETTO:+0100
END:STANDARD
BEGIN:DAYLIGHT
DTSTART:20000326T030000
RRULE:FREQ=YEARLY;BYDAY=-1SU;BYMONTH=3
TZNAME:CEST
TZOFFSETFROM:+0100
TZOFFSETTO:+0200
END:DAYLIGHT
END:VTIMEZONE
BEGIN:VEVENT
UID:pretix-GFM-WerkstattFWM2024-0@pretix.eu
DTSTART;TZID=Europe/Berlin:20241107T103000
DTEND;TZID=Europe/Berlin:20241107T113000
DESCRIPTION:Tickets: https://pretix.eu/GFM/WerkstattFWM2024/\nVeranstalter:
  Gesellschaft für Freiwilligenmanagement e. V.
DTSTAMP:20260424T030534Z
LOCATION:Bayerisches Rotes Kreuz Nürnberg-Stadt\, Nunnenbeckstr. 47\, 9048
 9 Nürnberg\, Großer Saal
SUMMARY:Werkstatt Freiwilligenmanagement
END:VEVENT
END:VCALENDAR
