BEGIN:VCALENDAR
VERSION:2.0
PRODID:-//pretix//pretix.eu//
BEGIN:VTIMEZONE
TZID:Europe/Berlin
BEGIN:STANDARD
DTSTART:20001029T040000
RRULE:FREQ=YEARLY;BYDAY=-1SU;BYMONTH=10
TZNAME:CET
TZOFFSETFROM:+0200
TZOFFSETTO:+0100
END:STANDARD
BEGIN:DAYLIGHT
DTSTART:20000326T030000
RRULE:FREQ=YEARLY;BYDAY=-1SU;BYMONTH=3
TZNAME:CEST
TZOFFSETFROM:+0100
TZOFFSETTO:+0200
END:DAYLIGHT
END:VTIMEZONE
BEGIN:VEVENT
UID:pretix-GL-Veranstaltungen-KSmachtAH-0@pretix.eu
DTSTART;TZID=Europe/Berlin:20231018T190000
DTEND;TZID=Europe/Berlin:20231018T210000
DESCRIPTION:Tickets: https://pretix.eu/GL-Veranstaltungen/KSmachtAH/\nVeran
 stalter: Gemeinde Laudenbach
DTSTAMP:20260422T185545Z
LOCATION:Festsaal Sonnberg-Schule\, Schillerstraße 6\, 69514 Laudenbach
SUMMARY:Klimaschutz macht AH! - Energieeffiziente Sanierungen - was man jen
 seits von Mythen und Vorurteilen wissen sollte
END:VEVENT
END:VCALENDAR
