BEGIN:VCALENDAR
VERSION:2.0
PRODID:-//pretix//pretix.eu//
BEGIN:VTIMEZONE
TZID:Europe/Berlin
BEGIN:STANDARD
DTSTART:20001029T040000
RRULE:FREQ=YEARLY;BYDAY=-1SU;BYMONTH=10
TZNAME:CET
TZOFFSETFROM:+0200
TZOFFSETTO:+0100
END:STANDARD
BEGIN:DAYLIGHT
DTSTART:20000326T030000
RRULE:FREQ=YEARLY;BYDAY=-1SU;BYMONTH=3
TZNAME:CEST
TZOFFSETFROM:+0100
TZOFFSETTO:+0200
END:DAYLIGHT
END:VTIMEZONE
BEGIN:VEVENT
UID:pretix-GL-Veranstaltungen-PV01032023-0@pretix.eu
DTSTART;TZID=Europe/Berlin:20230301T190000
DTEND;TZID=Europe/Berlin:20230301T210000
DESCRIPTION:Tickets: https://pretix.eu/GL-Veranstaltungen/PV01032023/\nVera
 nstalter: Gemeinde Laudenbach
DTSTAMP:20260422T151747Z
LOCATION:Festsaal Sonnberg-Schule\, Schillerstraße 6\, 69514 Laudenbach
SUMMARY:Solarstrategie für Laudenbach |PV: was ändert sich 2023 + Balkonk
 raftwerke
END:VEVENT
END:VCALENDAR
