BEGIN:VCALENDAR
VERSION:2.0
PRODID:-//pretix//pretix.eu//
BEGIN:VTIMEZONE
TZID:Europe/Berlin
BEGIN:STANDARD
DTSTART:20001029T040000
RRULE:FREQ=YEARLY;BYDAY=-1SU;BYMONTH=10
TZNAME:CET
TZOFFSETFROM:+0200
TZOFFSETTO:+0100
END:STANDARD
BEGIN:DAYLIGHT
DTSTART:20000326T030000
RRULE:FREQ=YEARLY;BYDAY=-1SU;BYMONTH=3
TZNAME:CEST
TZOFFSETFROM:+0100
TZOFFSETTO:+0200
END:DAYLIGHT
END:VTIMEZONE
BEGIN:VEVENT
UID:pretix-GL-Veranstaltungen-info-sammel-0@pretix.eu
DTSTART;TZID=Europe/Berlin:20240201T190000
DTEND;TZID=Europe/Berlin:20240201T210000
DESCRIPTION:Tickets: https://pretix.eu/GL-Veranstaltungen/info-sammel/\nVer
 anstalter: Gemeinde Laudenbach
DTSTAMP:20260423T040630Z
LOCATION:Festsaal Sonnberg-Schule\, Schillerstraße 6\, 69514 Laudenbach
SUMMARY:Informationsveranstaltung Sammelbestellung "Stecker-Solar-Anlagen"
END:VEVENT
END:VCALENDAR
