BEGIN:VCALENDAR
VERSION:2.0
PRODID:-//pretix//pretix.eu//
BEGIN:VTIMEZONE
TZID:Europe/Berlin
BEGIN:STANDARD
DTSTART:20001029T040000
RRULE:FREQ=YEARLY;BYDAY=-1SU;BYMONTH=10
TZNAME:CET
TZOFFSETFROM:+0200
TZOFFSETTO:+0100
END:STANDARD
BEGIN:DAYLIGHT
DTSTART:20000326T030000
RRULE:FREQ=YEARLY;BYDAY=-1SU;BYMONTH=3
TZNAME:CEST
TZOFFSETFROM:+0100
TZOFFSETTO:+0200
END:DAYLIGHT
END:VTIMEZONE
BEGIN:VEVENT
UID:pretix-GVG-GZKonferenz25-0@pretix.eu
DTSTART;TZID=Europe/Berlin:20251208T140000
DTEND;TZID=Europe/Berlin:20251208T180000
DESCRIPTION:Tickets: https://pretix.eu/GVG/GZKonferenz25/\nVeranstalter: Ge
 sellschaft für Versicherungswissenschaft und -gestaltung e.V. (GVG)
DTSTAMP:20260424T122029Z
LOCATION:Landesvertretung Brandenburg in Berlin\, In den Ministergärten 3\
 , 10117 Berlin
SUMMARY:Gesundheitsziele Konferenz 2025: Health in All Policies - Kooperati
 on als Erfolgsfaktor
END:VEVENT
END:VCALENDAR
