BEGIN:VCALENDAR
VERSION:2.0
PRODID:-//pretix//pretix.eu//
BEGIN:VTIMEZONE
TZID:Europe/Berlin
BEGIN:STANDARD
DTSTART:20001029T040000
RRULE:FREQ=YEARLY;BYDAY=-1SU;BYMONTH=10
TZNAME:CET
TZOFFSETFROM:+0200
TZOFFSETTO:+0100
END:STANDARD
BEGIN:DAYLIGHT
DTSTART:20000326T030000
RRULE:FREQ=YEARLY;BYDAY=-1SU;BYMONTH=3
TZNAME:CEST
TZOFFSETFROM:+0100
TZOFFSETTO:+0200
END:DAYLIGHT
END:VTIMEZONE
BEGIN:VEVENT
UID:pretix-H2-Wandel-HZwo-0@pretix.eu
DTSTART;TZID=Europe/Berlin:20231205T153000
DTEND;TZID=Europe/Berlin:20231205T180000
DESCRIPTION:Tickets: https://pretix.eu/H2-Wandel/HZwo/\nVeranstalter: H2-Wa
 ndel | Modellregion Grüner Wasserstoff
DTSTAMP:20260424T014031Z
LOCATION:Münsterplatz 25\, Ulm 89073
SUMMARY:Netzwerktreffen H2-Wandel\, HZwo e.V. und IHK Ulm
END:VEVENT
END:VCALENDAR
