BEGIN:VCALENDAR
VERSION:2.0
PRODID:-//pretix//pretix.eu//
BEGIN:VTIMEZONE
TZID:Europe/Berlin
BEGIN:STANDARD
DTSTART:20001029T040000
RRULE:FREQ=YEARLY;BYDAY=-1SU;BYMONTH=10
TZNAME:CET
TZOFFSETFROM:+0200
TZOFFSETTO:+0100
END:STANDARD
BEGIN:DAYLIGHT
DTSTART:20000326T030000
RRULE:FREQ=YEARLY;BYDAY=-1SU;BYMONTH=3
TZNAME:CEST
TZOFFSETFROM:+0100
TZOFFSETTO:+0200
END:DAYLIGHT
END:VTIMEZONE
BEGIN:VEVENT
UID:pretix-HERZBERG-aftercorona-2-2378517@pretix.eu
DTSTART;TZID=Europe/Berlin:20211029T180000
DTEND;TZID=Europe/Berlin:20211029T190000
DESCRIPTION:Tickets: https://pretix.eu/HERZBERG/aftercorona-2/2378517/\nEin
 lass: 29.10.2021 18:00\nVeranstalter: Christopher Herzberg
DTSTAMP:20260425T133810Z
LOCATION:Lahnstadl\, Merenberg
SUMMARY:Großes Lahnstadl Oktoberfest mit den Söhnen Tirols Vol. 3
END:VEVENT
END:VCALENDAR
