BEGIN:VCALENDAR
VERSION:2.0
PRODID:-//pretix//pretix.eu//
BEGIN:VTIMEZONE
TZID:Europe/Berlin
BEGIN:STANDARD
DTSTART:20001029T040000
RRULE:FREQ=YEARLY;BYDAY=-1SU;BYMONTH=10
TZNAME:CET
TZOFFSETFROM:+0200
TZOFFSETTO:+0100
END:STANDARD
BEGIN:DAYLIGHT
DTSTART:20000326T030000
RRULE:FREQ=YEARLY;BYDAY=-1SU;BYMONTH=3
TZNAME:CEST
TZOFFSETFROM:+0100
TZOFFSETTO:+0200
END:DAYLIGHT
END:VTIMEZONE
BEGIN:VEVENT
UID:pretix-HERZBERG-eventsandmore-4101762@pretix.eu
DTSTART;TZID=Europe/Berlin:20240531T200000
DTEND;TZID=Europe/Berlin:20240531T210000
DESCRIPTION:Tickets: https://pretix.eu/HERZBERG/eventsandmore/4101762/\nVer
 anstalter: Christopher Herzberg
DTSTAMP:20260423T094345Z
LOCATION:Gemünden
SUMMARY:Mallorca Kirmesparty in Gemünden mit tobee und DJ Schalli
END:VEVENT
END:VCALENDAR
