BEGIN:VCALENDAR
VERSION:2.0
PRODID:-//pretix//pretix.eu//
BEGIN:VTIMEZONE
TZID:Europe/Berlin
BEGIN:STANDARD
DTSTART:20001029T040000
RRULE:FREQ=YEARLY;BYDAY=-1SU;BYMONTH=10
TZNAME:CET
TZOFFSETFROM:+0200
TZOFFSETTO:+0100
END:STANDARD
BEGIN:DAYLIGHT
DTSTART:20000326T030000
RRULE:FREQ=YEARLY;BYDAY=-1SU;BYMONTH=3
TZNAME:CEST
TZOFFSETFROM:+0100
TZOFFSETTO:+0200
END:DAYLIGHT
END:VTIMEZONE
BEGIN:VEVENT
UID:pretix-HR-Innovation-Day-2025-0@pretix.eu
DTSTART;TZID=Europe/Berlin:20250614T080000
DTEND;TZID=Europe/Berlin:20250614T150000
DESCRIPTION:Tickets: https://pretix.eu/HR-Innovation-Day/2025/\nEinlass: 14
 .06.2025 07:45\nVeranstalter: HTWK Leipzig\, Lehrbereich Personalmanagemen
 t
DTSTAMP:20260421T002332Z
LOCATION:Gustav-Freytag-Str. 43-45\, 04277 Leipzig
SUMMARY:HR Innovation Day 2025
END:VEVENT
END:VCALENDAR
