BEGIN:VCALENDAR
VERSION:2.0
PRODID:-//pretix//pretix.eu//
BEGIN:VTIMEZONE
TZID:Europe/Berlin
BEGIN:STANDARD
DTSTART:20001029T040000
RRULE:FREQ=YEARLY;BYDAY=-1SU;BYMONTH=10
TZNAME:CET
TZOFFSETFROM:+0200
TZOFFSETTO:+0100
END:STANDARD
BEGIN:DAYLIGHT
DTSTART:20000326T030000
RRULE:FREQ=YEARLY;BYDAY=-1SU;BYMONTH=3
TZNAME:CEST
TZOFFSETFROM:+0100
TZOFFSETTO:+0200
END:DAYLIGHT
END:VTIMEZONE
BEGIN:VEVENT
UID:pretix-HSRW-GATA26-0@pretix.eu
DTSTART;TZID=Europe/Berlin:20260608T090000
DTEND;TZID=Europe/Berlin:20260619T180000
DESCRIPTION:Tickets: https://pretix.eu/HSRW/GATA26/\nVeranstalter: Hochschu
 le Rhein-Waal
DTSTAMP:20260423T075640Z
LOCATION:Hochschule Rhein-Waal\, Campus Kleve\, Marie-Curie-Straße 1\, 475
 33 Kleve\, Campus Kamp-Lintfort\, Friedrich-Heinrich Allee 25\, 47475 Kamp
 -Lintfort
SUMMARY:AUSBILDUNG? GET A TASTE!
END:VEVENT
END:VCALENDAR
