BEGIN:VCALENDAR
VERSION:2.0
PRODID:-//pretix//pretix.eu//
BEGIN:VTIMEZONE
TZID:Europe/Berlin
BEGIN:STANDARD
DTSTART:20001029T040000
RRULE:FREQ=YEARLY;BYDAY=-1SU;BYMONTH=10
TZNAME:CET
TZOFFSETFROM:+0200
TZOFFSETTO:+0100
END:STANDARD
BEGIN:DAYLIGHT
DTSTART:20000326T030000
RRULE:FREQ=YEARLY;BYDAY=-1SU;BYMONTH=3
TZNAME:CEST
TZOFFSETFROM:+0100
TZOFFSETTO:+0200
END:DAYLIGHT
END:VTIMEZONE
BEGIN:VEVENT
UID:pretix-HSRW-NIS2-0@pretix.eu
DTSTART;TZID=Europe/Berlin:20260521T160000
DTEND;TZID=Europe/Berlin:20260521T180000
DESCRIPTION:Tickets: https://pretix.eu/HSRW/NIS2/\nVeranstalter: Hochschule
  Rhein-Waal
DTSTAMP:20260421T235843Z
LOCATION:Hochschule Rhein-Waal\, Friedrich-Heinrich-Allee 25\, 47475 Kamp-L
 intfort\, Deutschland\, Gebäude 02\, Raum 02 01 310
SUMMARY:Unternehmensabend trifft wir4 Runder Tisch: NIS2\, CRA & AI Act im 
 Realitätscheck aktueller Cyberfälle
END:VEVENT
END:VCALENDAR
