BEGIN:VCALENDAR
VERSION:2.0
PRODID:-//pretix//pretix.eu//
BEGIN:VTIMEZONE
TZID:Europe/Berlin
BEGIN:STANDARD
DTSTART:20001029T040000
RRULE:FREQ=YEARLY;BYDAY=-1SU;BYMONTH=10
TZNAME:CET
TZOFFSETFROM:+0200
TZOFFSETTO:+0100
END:STANDARD
BEGIN:DAYLIGHT
DTSTART:20000326T030000
RRULE:FREQ=YEARLY;BYDAY=-1SU;BYMONTH=3
TZNAME:CEST
TZOFFSETFROM:+0100
TZOFFSETTO:+0200
END:DAYLIGHT
END:VTIMEZONE
BEGIN:VEVENT
UID:pretix-Hainholz-Rampe20252604-0@pretix.eu
DTSTART;TZID=Europe/Berlin:20250426T190000
DTEND;TZID=Europe/Berlin:20250426T200000
DESCRIPTION:Tickets: https://pretix.eu/Hainholz/Rampe20252604/\nVeranstalte
 r: Ev.-luth. Kirchengemeinde Hainholz
DTSTAMP:20260420T194236Z
LOCATION:Gemeindehaus Kirchengemeinde Hainholz\, Turmstraße 3a\, 30165 Han
 nover
SUMMARY:Theateraufführung der Hainhölzer Rampe
END:VEVENT
END:VCALENDAR
