BEGIN:VCALENDAR
VERSION:2.0
PRODID:-//pretix//pretix.eu//
BEGIN:VTIMEZONE
TZID:Europe/Berlin
BEGIN:STANDARD
DTSTART:20001029T040000
RRULE:FREQ=YEARLY;BYDAY=-1SU;BYMONTH=10
TZNAME:CET
TZOFFSETFROM:+0200
TZOFFSETTO:+0100
END:STANDARD
BEGIN:DAYLIGHT
DTSTART:20000326T030000
RRULE:FREQ=YEARLY;BYDAY=-1SU;BYMONTH=3
TZNAME:CEST
TZOFFSETFROM:+0100
TZOFFSETTO:+0200
END:DAYLIGHT
END:VTIMEZONE
BEGIN:VEVENT
UID:pretix-Hainholz-Weltgebetstag-0@pretix.eu
DTSTART;TZID=Europe/Berlin:20210305T180000
DTEND;TZID=Europe/Berlin:20210305T190000
DESCRIPTION:Tickets: https://pretix.eu/Hainholz/Weltgebetstag/\nVeranstalte
 r: Ev.-luth. Kirchengemeinde Hainholz
DTSTAMP:20260424T174328Z
LOCATION:St. Marien Kirche\, Hainholz\, Turmstraße
SUMMARY:Weltgebetstag  Andacht 18 Uhr
END:VEVENT
END:VCALENDAR
