BEGIN:VCALENDAR
VERSION:2.0
PRODID:-//pretix//pretix.eu//
BEGIN:VTIMEZONE
TZID:Europe/Berlin
BEGIN:STANDARD
DTSTART:20001029T040000
RRULE:FREQ=YEARLY;BYDAY=-1SU;BYMONTH=10
TZNAME:CET
TZOFFSETFROM:+0200
TZOFFSETTO:+0100
END:STANDARD
BEGIN:DAYLIGHT
DTSTART:20000326T030000
RRULE:FREQ=YEARLY;BYDAY=-1SU;BYMONTH=3
TZNAME:CEST
TZOFFSETFROM:+0100
TZOFFSETTO:+0200
END:DAYLIGHT
END:VTIMEZONE
BEGIN:VEVENT
UID:pretix-Hebammen-SH.de-25-12-0@pretix.eu
DTSTART;TZID=Europe/Berlin:20250430T133000
DTEND;TZID=Europe/Berlin:20250430T150000
DESCRIPTION:Tickets: https://pretix.eu/Hebammen-SH.de/25-12/\nVeranstalter:
  Hebammenverband Schleswig-Holstein e.V.
DTSTAMP:20260423T042748Z
LOCATION:Online Seminar
SUMMARY:Stillen kurz und bündig: Das kurze Zungenband - Online
END:VEVENT
END:VCALENDAR
