BEGIN:VCALENDAR
VERSION:2.0
PRODID:-//pretix//pretix.eu//
BEGIN:VTIMEZONE
TZID:Europe/Berlin
BEGIN:STANDARD
DTSTART:20001029T040000
RRULE:FREQ=YEARLY;BYDAY=-1SU;BYMONTH=10
TZNAME:CET
TZOFFSETFROM:+0200
TZOFFSETTO:+0100
END:STANDARD
BEGIN:DAYLIGHT
DTSTART:20000326T030000
RRULE:FREQ=YEARLY;BYDAY=-1SU;BYMONTH=3
TZNAME:CEST
TZOFFSETFROM:+0100
TZOFFSETTO:+0200
END:DAYLIGHT
END:VTIMEZONE
BEGIN:VEVENT
UID:pretix-ICMC-mittag001-0@pretix.eu
DTSTART;TZID=Europe/Berlin:20260511T133000
DTEND;TZID=Europe/Berlin:20260511T143000
DESCRIPTION:Tickets: https://pretix.eu/ICMC/mittag001/\nEinlass: 11.05.2026
  13:00\nVeranstalter: ICMC 2026
DTSTAMP:20260424T164642Z
LOCATION:Technische Universität Hamburg\, Audimax 2\, Gebäude I – Denic
 kestraße 22\, 21073 Hamburg
SUMMARY:INTREPID: Mittagskonzert #001 zur ICMC HAMBURG 2026
END:VEVENT
BEGIN:VEVENT
UID:pretix-ICMC-Abend001-0@pretix.eu
DTSTART;TZID=Europe/Berlin:20260511T190000
DTEND;TZID=Europe/Berlin:20260511T200000
DESCRIPTION:Tickets: https://pretix.eu/ICMC/Abend001/\nEinlass: 11.05.2026 
 18:30\nVeranstalter: ICMC 2026
DTSTAMP:20260424T164642Z
LOCATION:Friedrich-Ebert-Halle – Alter Postweg 34\, 21075 Hamburg
SUMMARY:INTREPID: Abendkonzert #001 zur ICMC HAMBURG 2026
END:VEVENT
BEGIN:VEVENT
UID:pretix-ICMC-mittag002-0@pretix.eu
DTSTART;TZID=Europe/Berlin:20260512T133000
DTEND;TZID=Europe/Berlin:20260512T143000
DESCRIPTION:Tickets: https://pretix.eu/ICMC/mittag002/\nEinlass: 12.05.2026
  13:00\nVeranstalter: ICMC 2026
DTSTAMP:20260424T164642Z
LOCATION:Technische Universität Hamburg\, Audimax 2\, Gebäude I – Denic
 kestraße 22\, 21073 Hamburg
SUMMARY:INTREPID: Mittagskonzert #002 zur ICMC HAMBURG 2026
END:VEVENT
BEGIN:VEVENT
UID:pretix-ICMC-648-0@pretix.eu
DTSTART;TZID=Europe/Berlin:20260512T160000
DTEND;TZID=Europe/Berlin:20260512T180000
DESCRIPTION:Tickets: https://pretix.eu/ICMC/648/\nVeranstalter: ICMC 2026
DTSTAMP:20260424T164642Z
LOCATION:ligeti zentrum\, 9. Stock
SUMMARY:Eine neue Perspektive auf Virtual Reality mit dem Audio-VR-Spiel SO
 NA „Diving in the Dark“
END:VEVENT
BEGIN:VEVENT
UID:pretix-ICMC-Abend002-0@pretix.eu
DTSTART;TZID=Europe/Berlin:20260512T190000
DTEND;TZID=Europe/Berlin:20260512T200000
DESCRIPTION:Tickets: https://pretix.eu/ICMC/Abend002/\nEinlass: 12.05.2026 
 18:30\nVeranstalter: ICMC 2026
DTSTAMP:20260424T164642Z
LOCATION:Friedrich-Ebert-Halle – Alter Postweg 34\, 21075 Hamburg
SUMMARY:INTREPID: Abendkonzert #002 zur ICMC HAMBURG 2026
END:VEVENT
BEGIN:VEVENT
UID:pretix-ICMC-mittag003-0@pretix.eu
DTSTART;TZID=Europe/Berlin:20260513T133000
DTEND;TZID=Europe/Berlin:20260513T143000
DESCRIPTION:Tickets: https://pretix.eu/ICMC/mittag003/\nEinlass: 13.05.2026
  13:00\nVeranstalter: ICMC 2026
DTSTAMP:20260424T164642Z
LOCATION:Technische Universität Hamburg\, Audimax 2\, Gebäude I – Denic
 kestraße 22\, 21073 Hamburg
SUMMARY:INTREPID: Mittagskonzert #003 zur ICMC HAMBURG 2026
END:VEVENT
BEGIN:VEVENT
UID:pretix-ICMC-mittag004-0@pretix.eu
DTSTART;TZID=Europe/Berlin:20260514T133000
DTEND;TZID=Europe/Berlin:20260514T143000
DESCRIPTION:Tickets: https://pretix.eu/ICMC/mittag004/\nEinlass: 14.05.2026
  13:00\nVeranstalter: ICMC 2026
DTSTAMP:20260424T164642Z
LOCATION:Technische Universität Hamburg\, Audimax 2\, Gebäude I – Denic
 kestraße 22\, 21073 Hamburg
SUMMARY:INTREPID: Mittagskonzert #004 zur ICMC HAMBURG 2026
END:VEVENT
BEGIN:VEVENT
UID:pretix-ICMC-50-0@pretix.eu
DTSTART;TZID=Europe/Berlin:20260514T160000
DTEND;TZID=Europe/Berlin:20260514T173000
DESCRIPTION:Tickets: https://pretix.eu/ICMC/50/\nVeranstalter: ICMC 2026
DTSTAMP:20260424T164642Z
LOCATION:Technische Universität Hamburg H0.02
SUMMARY:Klangspaziergang: Robert Cole Rizzi – Die Kunst des Zuhörens
END:VEVENT
BEGIN:VEVENT
UID:pretix-ICMC-Abend003-0@pretix.eu
DTSTART;TZID=Europe/Berlin:20260514T190000
DTEND;TZID=Europe/Berlin:20260514T200000
DESCRIPTION:Tickets: https://pretix.eu/ICMC/Abend003/\nEinlass: 14.05.2026 
 18:30\nVeranstalter: ICMC 2026
DTSTAMP:20260424T164642Z
LOCATION:Friedrich-Ebert-Halle – Alter Postweg 34\, 21075 Hamburg
SUMMARY:INTREPID: Abendkonzert #003 zur ICMC HAMBURG 2026
END:VEVENT
BEGIN:VEVENT
UID:pretix-ICMC-mittag005-0@pretix.eu
DTSTART;TZID=Europe/Berlin:20260516T133000
DTEND;TZID=Europe/Berlin:20260516T143000
DESCRIPTION:Tickets: https://pretix.eu/ICMC/mittag005/\nEinlass: 16.05.2026
  13:00\nVeranstalter: ICMC 2026
DTSTAMP:20260424T164642Z
LOCATION:Technische Universität Hamburg\, Audimax 2\, Gebäude I – Denic
 kestraße 22\, 21073 Hamburg
SUMMARY:INTREPID: Mittagskonzert #005 zur ICMC HAMBURG 2026
END:VEVENT
BEGIN:VEVENT
UID:pretix-ICMC-Abend005-0@pretix.eu
DTSTART;TZID=Europe/Berlin:20260516T190000
DTEND;TZID=Europe/Berlin:20260516T200000
DESCRIPTION:Tickets: https://pretix.eu/ICMC/Abend005/\nEinlass: 16.05.2026 
 18:30\nVeranstalter: ICMC 2026
DTSTAMP:20260424T164642Z
LOCATION:Friedrich-Ebert-Halle – Alter Postweg 34\, 21075 Hamburg
SUMMARY:INTREPID: Abendkonzert #005 zur ICMC HAMBURG 2026
END:VEVENT
BEGIN:VEVENT
UID:pretix-ICMC-aftershow-0@pretix.eu
DTSTART;TZID=Europe/Berlin:20260516T220000
DTEND;TZID=Europe/Berlin:20260517T020000
DESCRIPTION:Tickets: https://pretix.eu/ICMC/aftershow/\nVeranstalter: ICMC 
 2026
DTSTAMP:20260424T164642Z
LOCATION:Stellwerk (Bahnhof Harburg zwischen Gleis 3 und Gleis 4 im ersten 
 Stock des Bahnhofsgebäudes) – Hannoversche Straße 85\, 21079 Hamburg
SUMMARY:ICMC Aftershowparty: Live Electronics & DJ-Sets
END:VEVENT
END:VCALENDAR
