BEGIN:VCALENDAR
VERSION:2.0
PRODID:-//pretix//pretix.eu//
BEGIN:VTIMEZONE
TZID:Europe/Berlin
BEGIN:STANDARD
DTSTART:20001029T040000
RRULE:FREQ=YEARLY;BYDAY=-1SU;BYMONTH=10
TZNAME:CET
TZOFFSETFROM:+0200
TZOFFSETTO:+0100
END:STANDARD
BEGIN:DAYLIGHT
DTSTART:20000326T030000
RRULE:FREQ=YEARLY;BYDAY=-1SU;BYMONTH=3
TZNAME:CEST
TZOFFSETFROM:+0100
TZOFFSETTO:+0200
END:DAYLIGHT
END:VTIMEZONE
BEGIN:VEVENT
UID:pretix-IMD-Symposium-0@pretix.eu
DTSTART;TZID=Europe/Berlin:20250718T090000
DTEND;TZID=Europe/Berlin:20250718T170000
DESCRIPTION:Tickets: https://pretix.eu/IMD/Symposium/\nAdmission: 2025-07-1
 8 09:00\nOrganizer: IMD Institute for Materialdesign and Advanced Material
  Studies
DTSTAMP:20260425T211001Z
LOCATION:IMD Institute for Materialdesign and Advanced Material Studies\, P
 alleskestraße 32\, 65929\, Frankfurt am Main
SUMMARY:MATERIALDESIGN - designresearch symposium
END:VEVENT
END:VCALENDAR
