BEGIN:VCALENDAR
VERSION:2.0
PRODID:-//pretix//pretix.eu//
BEGIN:VTIMEZONE
TZID:Europe/Berlin
BEGIN:STANDARD
DTSTART:20001029T040000
RRULE:FREQ=YEARLY;BYDAY=-1SU;BYMONTH=10
TZNAME:CET
TZOFFSETFROM:+0200
TZOFFSETTO:+0100
END:STANDARD
BEGIN:DAYLIGHT
DTSTART:20000326T030000
RRULE:FREQ=YEARLY;BYDAY=-1SU;BYMONTH=3
TZNAME:CEST
TZOFFSETFROM:+0100
TZOFFSETTO:+0200
END:DAYLIGHT
END:VTIMEZONE
BEGIN:VEVENT
UID:pretix-Infolaw-ITRT2026-0@pretix.eu
DTSTART;TZID=Europe/Berlin:20260507T090000
DTEND;TZID=Europe/Berlin:20260508T130000
DESCRIPTION:Tickets: https://pretix.eu/Infolaw/ITRT2026/\nVeranstalter: INF
 OLAW – Forschungsverein für Informationsrecht und Immaterialgüterrecht
DTSTAMP:20260421T171330Z
LOCATION:Prinz-Eugen-Straße 12\, 1040 Wien\, Haus des Sports
SUMMARY:20. Österreichischer IT-Rechtstag
END:VEVENT
END:VCALENDAR
