BEGIN:VCALENDAR
VERSION:2.0
PRODID:-//pretix//pretix.eu//
BEGIN:VTIMEZONE
TZID:Europe/Berlin
BEGIN:STANDARD
DTSTART:20001029T040000
RRULE:FREQ=YEARLY;BYDAY=-1SU;BYMONTH=10
TZNAME:CET
TZOFFSETFROM:+0200
TZOFFSETTO:+0100
END:STANDARD
BEGIN:DAYLIGHT
DTSTART:20000326T030000
RRULE:FREQ=YEARLY;BYDAY=-1SU;BYMONTH=3
TZNAME:CEST
TZOFFSETFROM:+0100
TZOFFSETTO:+0200
END:DAYLIGHT
END:VTIMEZONE
BEGIN:VEVENT
UID:pretix-Jazzfest-2026-4777171@pretix.eu
DTSTART;TZID=Europe/Berlin:20260121T190000
DTEND;TZID=Europe/Berlin:20260121T235900
DESCRIPTION:Tickets: https://pretix.eu/Jazzfest/2026/4777171/\nEinlass: 21.
 01.2026 18:30\nVeranstalter: Jazzfest 2026 h_da
DTSTAMP:20260423T153335Z
LOCATION:Max-Planck-Straße 2\, 64807 Dieburg\, Mediencampus Dieburg - Aula
SUMMARY:h_da Jazzfest 2026 - Tag 1
END:VEVENT
END:VCALENDAR
