BEGIN:VCALENDAR
VERSION:2.0
PRODID:-//pretix//pretix.eu//
BEGIN:VTIMEZONE
TZID:Europe/Berlin
BEGIN:STANDARD
DTSTART:20001029T040000
RRULE:FREQ=YEARLY;BYDAY=-1SU;BYMONTH=10
TZNAME:CET
TZOFFSETFROM:+0200
TZOFFSETTO:+0100
END:STANDARD
BEGIN:DAYLIGHT
DTSTART:20000326T030000
RRULE:FREQ=YEARLY;BYDAY=-1SU;BYMONTH=3
TZNAME:CEST
TZOFFSETFROM:+0100
TZOFFSETTO:+0200
END:DAYLIGHT
END:VTIMEZONE
BEGIN:VEVENT
UID:pretix-Jh-Lab-Erfurt-Robotik-2-0@pretix.eu
DTSTART;TZID=Europe/Berlin:20221025T090000
DTEND;TZID=Europe/Berlin:20221025T130000
DESCRIPTION:Tickets: https://pretix.eu/Jh-Lab-Erfurt/Robotik-2/\nVeranstalt
 er: Jugend hackt Lab | Erfurt
DTSTAMP:20260423T153146Z
LOCATION:Jugend hackt Lab Erfurt\, Spawnpoint - Institut für Spiel- und Me
 dienkultur e.V.\, Schlachthofstraße 20\, 99085 Erfurt
SUMMARY:Robotik und Coding für Mädchen und FLINTA
END:VEVENT
END:VCALENDAR
