BEGIN:VCALENDAR
VERSION:2.0
PRODID:-//pretix//pretix.eu//
BEGIN:VTIMEZONE
TZID:Europe/Berlin
BEGIN:STANDARD
DTSTART:20001029T040000
RRULE:FREQ=YEARLY;BYDAY=-1SU;BYMONTH=10
TZNAME:CET
TZOFFSETFROM:+0200
TZOFFSETTO:+0100
END:STANDARD
BEGIN:DAYLIGHT
DTSTART:20000326T030000
RRULE:FREQ=YEARLY;BYDAY=-1SU;BYMONTH=3
TZNAME:CEST
TZOFFSETFROM:+0100
TZOFFSETTO:+0200
END:DAYLIGHT
END:VTIMEZONE
BEGIN:VEVENT
UID:pretix-Jh-Lab-Erfurt-Spiele-Schmiede-0@pretix.eu
DTSTART;TZID=Europe/Berlin:20230413T100000
DTEND;TZID=Europe/Berlin:20230414T160000
DESCRIPTION:Tickets: https://pretix.eu/Jh-Lab-Erfurt/Spiele-Schmiede/\nVera
 nstalter: Jugend hackt Lab | Erfurt
DTSTAMP:20260423T113930Z
LOCATION:Schlachthofstraße 20 Erfurt 99085\, Spawnpoint-Lab
SUMMARY:Spiele Schmiede - Schaffe dein eigenes Spiel
END:VEVENT
END:VCALENDAR
