BEGIN:VCALENDAR
VERSION:2.0
PRODID:-//pretix//pretix.eu//
BEGIN:VTIMEZONE
TZID:Europe/Berlin
BEGIN:STANDARD
DTSTART:20001029T040000
RRULE:FREQ=YEARLY;BYDAY=-1SU;BYMONTH=10
TZNAME:CET
TZOFFSETFROM:+0200
TZOFFSETTO:+0100
END:STANDARD
BEGIN:DAYLIGHT
DTSTART:20000326T030000
RRULE:FREQ=YEARLY;BYDAY=-1SU;BYMONTH=3
TZNAME:CEST
TZOFFSETFROM:+0100
TZOFFSETTO:+0200
END:DAYLIGHT
END:VTIMEZONE
BEGIN:VEVENT
UID:pretix-JuliaLerner-Mosaiken-0@pretix.eu
DTSTART;TZID=Europe/Berlin:20250215T170000
DTEND;TZID=Europe/Berlin:20250215T180000
DESCRIPTION:Tickets: https://pretix.eu/JuliaLerner/Mosaiken/\nEinlass: 15.0
 2.2025 16:30\nVeranstalter: Julia Lerner
DTSTAMP:20260422T043049Z
LOCATION:Scala\, Blumenstraße 15\, 73728 Esslingen am Neckar
SUMMARY:Mosaiken
END:VEVENT
END:VCALENDAR
