BEGIN:VCALENDAR
VERSION:2.0
PRODID:-//pretix//pretix.eu//
BEGIN:VTIMEZONE
TZID:Europe/Berlin
BEGIN:STANDARD
DTSTART:20001029T040000
RRULE:FREQ=YEARLY;BYDAY=-1SU;BYMONTH=10
TZNAME:CET
TZOFFSETFROM:+0200
TZOFFSETTO:+0100
END:STANDARD
BEGIN:DAYLIGHT
DTSTART:20000326T030000
RRULE:FREQ=YEARLY;BYDAY=-1SU;BYMONTH=3
TZNAME:CEST
TZOFFSETFROM:+0100
TZOFFSETTO:+0200
END:DAYLIGHT
END:VTIMEZONE
BEGIN:VEVENT
UID:pretix-K8-xwnbw-4117703@pretix.eu
DTSTART;TZID=Europe/Berlin:20241212T160000
DTEND;TZID=Europe/Berlin:20241212T170000
DESCRIPTION:Tickets: https://pretix.eu/K8/xwnbw/4117703/\nEinlass: 12.12.20
 24 16:00\nVeranstalter: K8 Institut für strategische Ästhetik gGmbH
DTSTAMP:20260422T120426Z
LOCATION:co:hub66\, Neumarkt 15\, 66117 Saarbrücken
SUMMARY:CRASHKURS CO²-Laser
END:VEVENT
END:VCALENDAR
