BEGIN:VCALENDAR
VERSION:2.0
PRODID:-//pretix//pretix.eu//
BEGIN:VTIMEZONE
TZID:Europe/Berlin
BEGIN:STANDARD
DTSTART:20001029T040000
RRULE:FREQ=YEARLY;BYDAY=-1SU;BYMONTH=10
TZNAME:CET
TZOFFSETFROM:+0200
TZOFFSETTO:+0100
END:STANDARD
BEGIN:DAYLIGHT
DTSTART:20000326T030000
RRULE:FREQ=YEARLY;BYDAY=-1SU;BYMONTH=3
TZNAME:CEST
TZOFFSETFROM:+0100
TZOFFSETTO:+0200
END:DAYLIGHT
END:VTIMEZONE
BEGIN:VEVENT
UID:pretix-KGK-gdee7-0@pretix.eu
DTSTART;TZID=Europe/Berlin:20251106T133000
DTEND;TZID=Europe/Berlin:20251106T173000
DESCRIPTION:Tickets: https://pretix.eu/KGK/gdee7/\nEinlass: 06.11.2025 13:3
 0\nVeranstalter: Geschäftsstelle Kommunale Gesundheitskonferenz
DTSTAMP:20260424T224014Z
LOCATION:Aula der Hans-Freudenberg-Schule\, Wormser Str. 51\, 69469 Weinhei
 m
SUMMARY:Essstörungen - Prävention in Schulen und Vereinen
END:VEVENT
END:VCALENDAR
