BEGIN:VCALENDAR
VERSION:2.0
PRODID:-//pretix//pretix.eu//
BEGIN:VTIMEZONE
TZID:Europe/Berlin
BEGIN:STANDARD
DTSTART:20001029T040000
RRULE:FREQ=YEARLY;BYDAY=-1SU;BYMONTH=10
TZNAME:CET
TZOFFSETFROM:+0200
TZOFFSETTO:+0100
END:STANDARD
BEGIN:DAYLIGHT
DTSTART:20000326T030000
RRULE:FREQ=YEARLY;BYDAY=-1SU;BYMONTH=3
TZNAME:CEST
TZOFFSETFROM:+0100
TZOFFSETTO:+0200
END:DAYLIGHT
END:VTIMEZONE
BEGIN:VEVENT
UID:pretix-KW-Stoeckel-0@pretix.eu
DTSTART;TZID=Europe/Berlin:20241107T180000
DTEND;TZID=Europe/Berlin:20241107T190000
DESCRIPTION:Tickets: https://pretix.eu/KW/Stoeckel/\nEinlass: 07.11.2024 17
 :30\nVeranstalter: Gemeinde Weyhe - Kulturbüro
DTSTAMP:20260420T103826Z
LOCATION:Mehrzweckhalle Weyhe\, Am Bruch 1\, 28844 Weyhe\, (Parkplätze am 
 Rathausplatz 1)
SUMMARY:Konrad Stöckel  -  "Wenn's stinkt und kracht ist's Wissenschaft!" 
 Thema: Umwelt
END:VEVENT
END:VCALENDAR
