BEGIN:VCALENDAR
VERSION:2.0
PRODID:-//pretix//pretix.eu//
BEGIN:VTIMEZONE
TZID:Europe/Berlin
BEGIN:STANDARD
DTSTART:20001029T040000
RRULE:FREQ=YEARLY;BYDAY=-1SU;BYMONTH=10
TZNAME:CET
TZOFFSETFROM:+0200
TZOFFSETTO:+0100
END:STANDARD
BEGIN:DAYLIGHT
DTSTART:20000326T030000
RRULE:FREQ=YEARLY;BYDAY=-1SU;BYMONTH=3
TZNAME:CEST
TZOFFSETFROM:+0100
TZOFFSETTO:+0200
END:DAYLIGHT
END:VTIMEZONE
BEGIN:VEVENT
UID:pretix-Krimifestival-Giessen-lhwl7-2-0@pretix.eu
DTSTART;TZID=Europe/Berlin:20251007T190000
DTEND;TZID=Europe/Berlin:20251007T220000
DESCRIPTION:Tickets: https://pretix.eu/Krimifestival-Giessen/lhwl7-2/\nEinl
 ass: 07.10.2025 18:30\nVeranstalter: Krimifestival Gießen
DTSTAMP:20260422T205649Z
LOCATION:Rathaus Gießen\, Hermann-Levi-Saal\, Berliner Platz 1\, 35390 Gie
 ßen
SUMMARY:Volker Kutscher und Illustratorin Kat Menschik: „Westend“
END:VEVENT
END:VCALENDAR
