BEGIN:VCALENDAR
VERSION:2.0
PRODID:-//pretix//pretix.eu//
BEGIN:VTIMEZONE
TZID:Europe/Berlin
BEGIN:STANDARD
DTSTART:20001029T040000
RRULE:FREQ=YEARLY;BYDAY=-1SU;BYMONTH=10
TZNAME:CET
TZOFFSETFROM:+0200
TZOFFSETTO:+0100
END:STANDARD
BEGIN:DAYLIGHT
DTSTART:20000326T030000
RRULE:FREQ=YEARLY;BYDAY=-1SU;BYMONTH=3
TZNAME:CEST
TZOFFSETFROM:+0100
TZOFFSETTO:+0200
END:DAYLIGHT
END:VTIMEZONE
BEGIN:VEVENT
UID:pretix-Krimifestival-Giessen-ly3rs-0@pretix.eu
DTSTART;TZID=Europe/Berlin:20251004T200000
DTEND;TZID=Europe/Berlin:20251004T223000
DESCRIPTION:Tickets: https://pretix.eu/Krimifestival-Giessen/ly3rs/\nEinlas
 s: 04.10.2025 19:30\nVeranstalter: Krimifestival Gießen
DTSTAMP:20260422T183824Z
LOCATION:Kulturzentrum Hungen\, Am Zwenger 8\, 35410 Hungen
SUMMARY:Peter Grandl: „Reset“
END:VEVENT
END:VCALENDAR
