BEGIN:VCALENDAR
VERSION:2.0
PRODID:-//pretix//pretix.eu//
BEGIN:VTIMEZONE
TZID:Europe/Berlin
BEGIN:STANDARD
DTSTART:20001029T040000
RRULE:FREQ=YEARLY;BYDAY=-1SU;BYMONTH=10
TZNAME:CET
TZOFFSETFROM:+0200
TZOFFSETTO:+0100
END:STANDARD
BEGIN:DAYLIGHT
DTSTART:20000326T030000
RRULE:FREQ=YEARLY;BYDAY=-1SU;BYMONTH=3
TZNAME:CEST
TZOFFSETFROM:+0100
TZOFFSETTO:+0200
END:DAYLIGHT
END:VTIMEZONE
BEGIN:VEVENT
UID:pretix-Krimifestival-Giessen-wbubk-0@pretix.eu
DTSTART;TZID=Europe/Berlin:20251010T200000
DTEND;TZID=Europe/Berlin:20251010T223000
DESCRIPTION:Tickets: https://pretix.eu/Krimifestival-Giessen/wbubk/\nEinlas
 s: 10.10.2025 19:30\nVeranstalter: Krimifestival Gießen
DTSTAMP:20260422T184003Z
LOCATION:Polizeipräsidium Mittelhessen\, Ferniestraße 8\, 35394 Gießen
SUMMARY:Volker Klüpfel und Katharina Spiering: "Wenn Ende gut\, dann alles
 "
END:VEVENT
END:VCALENDAR
