BEGIN:VCALENDAR
VERSION:2.0
PRODID:-//pretix//pretix.eu//
BEGIN:VTIMEZONE
TZID:Europe/Berlin
BEGIN:STANDARD
DTSTART:20001029T040000
RRULE:FREQ=YEARLY;BYDAY=-1SU;BYMONTH=10
TZNAME:CET
TZOFFSETFROM:+0200
TZOFFSETTO:+0100
END:STANDARD
BEGIN:DAYLIGHT
DTSTART:20000326T030000
RRULE:FREQ=YEARLY;BYDAY=-1SU;BYMONTH=3
TZNAME:CEST
TZOFFSETFROM:+0100
TZOFFSETTO:+0200
END:DAYLIGHT
END:VTIMEZONE
BEGIN:VEVENT
UID:pretix-Krimifestival-Giessen-wqw7q-0@pretix.eu
DTSTART;TZID=Europe/Berlin:20251014T200000
DTEND;TZID=Europe/Berlin:20251014T223000
DESCRIPTION:Tickets: https://pretix.eu/Krimifestival-Giessen/wqw7q/\nEinlas
 s: 14.10.2025 19:30\nVeranstalter: Krimifestival Gießen
DTSTAMP:20260423T005334Z
LOCATION:Junge Kirche\, Löberstraße 4\, 35390 Gießen
SUMMARY:Jan Beck: "Dorn - Zimmer 103"
END:VEVENT
END:VCALENDAR
