BEGIN:VCALENDAR
VERSION:2.0
PRODID:-//pretix//pretix.eu//
BEGIN:VTIMEZONE
TZID:Europe/Berlin
BEGIN:STANDARD
DTSTART:20001029T040000
RRULE:FREQ=YEARLY;BYDAY=-1SU;BYMONTH=10
TZNAME:CET
TZOFFSETFROM:+0200
TZOFFSETTO:+0100
END:STANDARD
BEGIN:DAYLIGHT
DTSTART:20000326T030000
RRULE:FREQ=YEARLY;BYDAY=-1SU;BYMONTH=3
TZNAME:CEST
TZOFFSETFROM:+0100
TZOFFSETTO:+0200
END:DAYLIGHT
END:VTIMEZONE
BEGIN:VEVENT
UID:pretix-Kultur-Stadl-b8p3c-0@pretix.eu
DTSTART;TZID=Europe/Berlin:20200910T211500
DTEND;TZID=Europe/Berlin:20200910T221500
DESCRIPTION:Tickets: https://pretix.eu/Kultur-Stadl/b8p3c/\nEinlass: 10.09.
 2020 20:45\nVeranstalter: E-F-H Stadl GbR\, Kultur-Stadl Wörleschwang
DTSTAMP:20260419T160651Z
LOCATION:Kultur-Stadl Wörleschwang\, Untere Hauptstr. 13\, 86441 Zusmarsha
 usen OT Wörleschwang
SUMMARY:Martin Frank mit seinem neuen Programm – 2. Vorstellung
END:VEVENT
END:VCALENDAR
