BEGIN:VCALENDAR
VERSION:2.0
PRODID:-//pretix//pretix.eu//
BEGIN:VTIMEZONE
TZID:Europe/Berlin
BEGIN:STANDARD
DTSTART:20001029T040000
RRULE:FREQ=YEARLY;BYDAY=-1SU;BYMONTH=10
TZNAME:CET
TZOFFSETFROM:+0200
TZOFFSETTO:+0100
END:STANDARD
BEGIN:DAYLIGHT
DTSTART:20000326T030000
RRULE:FREQ=YEARLY;BYDAY=-1SU;BYMONTH=3
TZNAME:CEST
TZOFFSETFROM:+0100
TZOFFSETTO:+0200
END:DAYLIGHT
END:VTIMEZONE
BEGIN:VEVENT
UID:pretix-Kultur-Stadl-xfc8d-3-0@pretix.eu
DTSTART;TZID=Europe/Berlin:20261025T190000
DTEND;TZID=Europe/Berlin:20261025T200000
DESCRIPTION:Tickets: https://pretix.eu/Kultur-Stadl/xfc8d-3/\nEinlass: 25.1
 0.2026 17:30\nVeranstalter: E-F-H Stadl GbR\, Kultur-Stadl Wörleschwang
DTSTAMP:20260419T123410Z
LOCATION:Kultur-Stadl Wörleschwang\, Untere Hauptstr. 13\, 86441 Zusmarsha
 usen OT Wörleschwang
SUMMARY:Soul-Stadl Vol. XIII – Soul & Travestie mit Mom Bee & Serina Thay
 ler III
END:VEVENT
END:VCALENDAR
