BEGIN:VCALENDAR
VERSION:2.0
PRODID:-//pretix//pretix.eu//
BEGIN:VTIMEZONE
TZID:Europe/Berlin
BEGIN:STANDARD
DTSTART:20001029T040000
RRULE:FREQ=YEARLY;BYDAY=-1SU;BYMONTH=10
TZNAME:CET
TZOFFSETFROM:+0200
TZOFFSETTO:+0100
END:STANDARD
BEGIN:DAYLIGHT
DTSTART:20000326T030000
RRULE:FREQ=YEARLY;BYDAY=-1SU;BYMONTH=3
TZNAME:CEST
TZOFFSETFROM:+0100
TZOFFSETTO:+0200
END:DAYLIGHT
END:VTIMEZONE
BEGIN:VEVENT
UID:pretix-LOEV-ALL-IN-25-4548604@pretix.eu
DTSTART;TZID=Europe/Berlin:20250427T110000
DTEND;TZID=Europe/Berlin:20250427T133000
DESCRIPTION:Tickets: https://pretix.eu/LOEV/ALL-IN-25/4548604/\nEinlass: 27
 .04.2025 10:30\nVeranstalter: Lebenswert Odenwald e.V.
DTSTAMP:20260419T200246Z
LOCATION:Volksbank Michelstadt\, Frankfurter Str. 1\, 64720 Michelstadt
SUMMARY:Daniel Neumann im Gespräch
END:VEVENT
END:VCALENDAR
