BEGIN:VCALENDAR
VERSION:2.0
PRODID:-//pretix//pretix.eu//
BEGIN:VTIMEZONE
TZID:Europe/Berlin
BEGIN:STANDARD
DTSTART:20001029T040000
RRULE:FREQ=YEARLY;BYDAY=-1SU;BYMONTH=10
TZNAME:CET
TZOFFSETFROM:+0200
TZOFFSETTO:+0100
END:STANDARD
BEGIN:DAYLIGHT
DTSTART:20000326T030000
RRULE:FREQ=YEARLY;BYDAY=-1SU;BYMONTH=3
TZNAME:CEST
TZOFFSETFROM:+0100
TZOFFSETTO:+0200
END:DAYLIGHT
END:VTIMEZONE
BEGIN:VEVENT
UID:pretix-MAO-L5A-05-10-24-0@pretix.eu
DTSTART;TZID=Europe/Berlin:20241005T143000
DTEND;TZID=Europe/Berlin:20241005T180000
DESCRIPTION:Tickets: https://pretix.eu/MAO-L5A/05-10-24/\nOrganizer: Depart
 ments & Dragons
DTSTAMP:20260423T003225Z
LOCATION:MAO Museo di Arte Orientale
SUMMARY:Ombre sul Rokugan - Giocare la Leggenda dei 5 Anelli al MAO
END:VEVENT
END:VCALENDAR
