BEGIN:VCALENDAR
VERSION:2.0
PRODID:-//pretix//pretix.eu//
BEGIN:VTIMEZONE
TZID:Europe/Berlin
BEGIN:STANDARD
DTSTART:20001029T040000
RRULE:FREQ=YEARLY;BYDAY=-1SU;BYMONTH=10
TZNAME:CET
TZOFFSETFROM:+0200
TZOFFSETTO:+0100
END:STANDARD
BEGIN:DAYLIGHT
DTSTART:20000326T030000
RRULE:FREQ=YEARLY;BYDAY=-1SU;BYMONTH=3
TZNAME:CEST
TZOFFSETFROM:+0100
TZOFFSETTO:+0200
END:DAYLIGHT
END:VTIMEZONE
BEGIN:VEVENT
UID:pretix-MARLA-Frauen-0@pretix.eu
DTSTART;TZID=Europe/Berlin:20250628T110000
DTEND;TZID=Europe/Berlin:20250628T133000
DESCRIPTION:Tickets: https://pretix.eu/MARLA/Frauen/\nVeranstalter: MARLA
DTSTAMP:20260421T175929Z
LOCATION:Freiraum Rochdale\, Oldentruper Str. 65\, 33604 Bielefeld
SUMMARY:Graffiti- Workshop für Frauen*
END:VEVENT
END:VCALENDAR
