BEGIN:VCALENDAR
VERSION:2.0
PRODID:-//pretix//pretix.eu//
BEGIN:VTIMEZONE
TZID:Europe/Berlin
BEGIN:STANDARD
DTSTART:20001029T040000
RRULE:FREQ=YEARLY;BYDAY=-1SU;BYMONTH=10
TZNAME:CET
TZOFFSETFROM:+0200
TZOFFSETTO:+0100
END:STANDARD
BEGIN:DAYLIGHT
DTSTART:20000326T030000
RRULE:FREQ=YEARLY;BYDAY=-1SU;BYMONTH=3
TZNAME:CEST
TZOFFSETFROM:+0100
TZOFFSETTO:+0200
END:DAYLIGHT
END:VTIMEZONE
BEGIN:VEVENT
UID:pretix-Muenzenberg-hdm3m-0@pretix.eu
DTSTART;TZID=Europe/Berlin:20260427T190000
DTEND;TZID=Europe/Berlin:20260427T235959
DESCRIPTION:Tickets: https://pretix.eu/Muenzenberg/hdm3m/\nEinlass: 27.04.2
 026 18:00\nVeranstalter: Münzenberg Forum
DTSTAMP:20260421T192300Z
LOCATION:FMP1\, Berlin
SUMMARY:Neues Deutschland – Vom Pressekombinat am Franz-Mehring-Platz 1
END:VEVENT
END:VCALENDAR
