BEGIN:VCALENDAR
VERSION:2.0
PRODID:-//pretix//pretix.eu//
BEGIN:VTIMEZONE
TZID:Europe/Berlin
BEGIN:STANDARD
DTSTART:20001029T040000
RRULE:FREQ=YEARLY;BYDAY=-1SU;BYMONTH=10
TZNAME:CET
TZOFFSETFROM:+0200
TZOFFSETTO:+0100
END:STANDARD
BEGIN:DAYLIGHT
DTSTART:20000326T030000
RRULE:FREQ=YEARLY;BYDAY=-1SU;BYMONTH=3
TZNAME:CEST
TZOFFSETFROM:+0100
TZOFFSETTO:+0200
END:DAYLIGHT
END:VTIMEZONE
BEGIN:VEVENT
UID:pretix-Muenzenberg-parolen-0@pretix.eu
DTSTART;TZID=Europe/Berlin:20260415T190000
DTEND;TZID=Europe/Berlin:20260415T215959
DESCRIPTION:Tickets: https://pretix.eu/Muenzenberg/parolen/\nEinlass: 15.04
 .2026 18:00\nVeranstalter: Münzenberg Forum
DTSTAMP:20260422T014613Z
LOCATION:Salon des Franz-Mehring-Platz 1\, 10243 Berlin
SUMMARY:Politik mit Parolen? - Über linke Strategien der Mobilisierung und
  Ansprache
END:VEVENT
END:VCALENDAR
