BEGIN:VCALENDAR
VERSION:2.0
PRODID:-//pretix//pretix.eu//
BEGIN:VTIMEZONE
TZID:Europe/Berlin
BEGIN:STANDARD
DTSTART:20001029T040000
RRULE:FREQ=YEARLY;BYDAY=-1SU;BYMONTH=10
TZNAME:CET
TZOFFSETFROM:+0200
TZOFFSETTO:+0100
END:STANDARD
BEGIN:DAYLIGHT
DTSTART:20000326T030000
RRULE:FREQ=YEARLY;BYDAY=-1SU;BYMONTH=3
TZNAME:CEST
TZOFFSETFROM:+0100
TZOFFSETTO:+0200
END:DAYLIGHT
END:VTIMEZONE
BEGIN:VEVENT
UID:pretix-MuniqueDancaForro-20241018-Mme-Baiao-0@pretix.eu
DTSTART;TZID=Europe/Berlin:20241018T203000
DTEND;TZID=Europe/Berlin:20241019T010000
DESCRIPTION:Tickets: https://pretix.eu/MuniqueDancaForro/20241018-Mme-Baiao
 /\nEinlass: 18.10.2024 20:30\nVeranstalter: Munique Dança e. V.
DTSTAMP:20260419T230933Z
LOCATION:Bürgersaal Fürstenried\, Züricher Straße 35\, 81476 München
SUMMARY:Konzert Madame Baião
END:VEVENT
END:VCALENDAR
