BEGIN:VCALENDAR
VERSION:2.0
PRODID:-//pretix//pretix.eu//
BEGIN:VTIMEZONE
TZID:Europe/Berlin
BEGIN:STANDARD
DTSTART:20001029T040000
RRULE:FREQ=YEARLY;BYDAY=-1SU;BYMONTH=10
TZNAME:CET
TZOFFSETFROM:+0200
TZOFFSETTO:+0100
END:STANDARD
BEGIN:DAYLIGHT
DTSTART:20000326T030000
RRULE:FREQ=YEARLY;BYDAY=-1SU;BYMONTH=3
TZNAME:CEST
TZOFFSETFROM:+0100
TZOFFSETTO:+0200
END:DAYLIGHT
END:VTIMEZONE
BEGIN:VEVENT
UID:pretix-MuniqueDancaForro-20260402-03-SambaForro-0@pretix.eu
DTSTART;TZID=Europe/Berlin:20260502T160000
DTEND;TZID=Europe/Berlin:20260503T220000
DESCRIPTION:Tickets: https://pretix.eu/MuniqueDancaForro/20260402-03-SambaF
 orro/\nEinlass: 02.05.2026 16:00\nVeranstalter: Munique Dança e. V.
DTSTAMP:20260425T003024Z
LOCATION:Helene-Mayer-Ring 8\, 80809 München
SUMMARY:Samba und Forró Wochenende - 2-3 Mai
END:VEVENT
END:VCALENDAR
