BEGIN:VCALENDAR
VERSION:2.0
PRODID:-//pretix//pretix.eu//
BEGIN:VTIMEZONE
TZID:Europe/Berlin
BEGIN:STANDARD
DTSTART:20001029T040000
RRULE:FREQ=YEARLY;BYDAY=-1SU;BYMONTH=10
TZNAME:CET
TZOFFSETFROM:+0200
TZOFFSETTO:+0100
END:STANDARD
BEGIN:DAYLIGHT
DTSTART:20000326T030000
RRULE:FREQ=YEARLY;BYDAY=-1SU;BYMONTH=3
TZNAME:CEST
TZOFFSETFROM:+0100
TZOFFSETTO:+0200
END:DAYLIGHT
END:VTIMEZONE
BEGIN:VEVENT
UID:pretix-MuniqueDancaForro-20260418-Rafael-Wilker-0@pretix.eu
DTSTART;TZID=Europe/Berlin:20260418T160000
DTEND;TZID=Europe/Berlin:20260418T223000
DESCRIPTION:Tickets: https://pretix.eu/MuniqueDancaForro/20260418-Rafael-Wi
 lker/\nOrganizer: Munique Dança e. V.
DTSTAMP:20260420T190126Z
LOCATION:Dance and Fight Club\, Frankenthaler Str. 20A\, 81539 München
SUMMARY:Workshops with Rafael Wilker
END:VEVENT
END:VCALENDAR
